BEGIN:VCALENDAR
VERSION:2.0
PRODID:-//eventon.com NONSGML v1.0//EN
CALSCALE:GREGORIAN
METHOD:PUBLISH
BEGIN:VEVENT
UID:69e5d8272cd6d
DTSTAMP:20260420T073919
DTSTART:20250314T100000Z
DTEND:20250314T235900Z
TZID:UTC
LOCATION:
SUMMARY:Encuentro Networking Empresarial: CECO - UPPERY CLUB
DESCRIPTION:El viernes 14 de Marzo de 2025\,  tendrá lugar un encuentro networking empresarial gratuito\,  entre los asociados de CECO y empresarios del Club Empresarial de Alta Dirección UPPERY CLUB de Málaga\,   que se celebrará en la sede de la Confederación de Empresarios\,  sita en Jardines Virgen de la Estrella\,  1-[..]\nhttps://ceco-cordoba.es/events/encuentro-networking-empresarial-ceco-uppery-club/
URL:https://ceco-cordoba.es/events/encuentro-networking-empresarial-ceco-uppery-club/
END:VEVENT
END:VCALENDAR