BEGIN:VCALENDAR
VERSION:2.0
PRODID:-//eventon.com NONSGML v1.0//EN
CALSCALE:GREGORIAN
METHOD:PUBLISH
BEGIN:VEVENT
UID:69e4d991194ed
DTSTAMP:20260419T133305
DTSTART:20180507T010000Z
DTEND:20180507T010000Z
TZID:UTC
LOCATION:
SUMMARY:Jornadas técnicas gratuitas.Inscríbete!!
DESCRIPTION:Jornadas técnicas gratuitas.Inscríbete!!\nhttps://ceco-cordoba.es/events/jornadas-tecnicas-gratuitas-inscribete/
URL:https://ceco-cordoba.es/events/jornadas-tecnicas-gratuitas-inscribete/
END:VEVENT
END:VCALENDAR