BEGIN:VCALENDAR
VERSION:2.0
PRODID:-//eventon.com NONSGML v1.0//EN
CALSCALE:GREGORIAN
METHOD:PUBLISH
BEGIN:VEVENT
UID:69e6e91f7c91f
DTSTAMP:20260421T030359
DTSTART:20180209T010000Z
DTEND:20180209T010000Z
TZID:UTC
LOCATION:
SUMMARY:Programa formativo dirigido a Trabajadores y Autónomos
DESCRIPTION:Programa formativo dirigido a Trabajadores y Autónomos\nhttps://ceco-cordoba.es/events/programa-formativo-dirigido-a-trabajadores-y-autonomos/
URL:https://ceco-cordoba.es/events/programa-formativo-dirigido-a-trabajadores-y-autonomos/
END:VEVENT
END:VCALENDAR