BEGIN:VCALENDAR
VERSION:2.0
PRODID:-//eventon.com NONSGML v1.0//EN
CALSCALE:GREGORIAN
METHOD:PUBLISH
BEGIN:VEVENT
UID:69e639ee186d9
DTSTAMP:20260420T143630
DTSTART:20170509T010000Z
DTEND:20170509T010000Z
TZID:UTC
LOCATION:
SUMMARY:Recursos financieros para emprendedores: Buscando financiación
DESCRIPTION:Recursos financieros para emprendedores: Buscando financiación\nhttps://ceco-cordoba.es/events/recursos-financieros-para-emprendedores-buscando-financiacion/
URL:https://ceco-cordoba.es/events/recursos-financieros-para-emprendedores-buscando-financiacion/
END:VEVENT
END:VCALENDAR