BEGIN:VCALENDAR
VERSION:2.0
PRODID:-//eventon.com NONSGML v1.0//EN
CALSCALE:GREGORIAN
METHOD:PUBLISH
BEGIN:VEVENT
UID:69e74bf4a31eb
DTSTAMP:20260421T100540
DTSTART:20170419T010000Z
DTEND:20170419T010000Z
TZID:UTC
LOCATION:
SUMMARY:Google Analytics para Negocios
DESCRIPTION:Google Analytics para Negocios\nhttps://ceco-cordoba.es/events/google-analytics-para-negocios/
URL:https://ceco-cordoba.es/events/google-analytics-para-negocios/
END:VEVENT
END:VCALENDAR