BEGIN:VCALENDAR
VERSION:2.0
PRODID:-//eventon.com NONSGML v1.0//EN
CALSCALE:GREGORIAN
METHOD:PUBLISH
BEGIN:VEVENT
UID:69e74a485fc37
DTSTAMP:20260421T095832
DTSTART:20200727T213000Z
DTEND:20200727T235000Z
TZID:UTC
LOCATION:
SUMMARY:Acto "Los Empresarios dicen: Gracias Córdoba"
DESCRIPTION:Acto "Los Empresarios dicen: Gracias Córdoba"\nhttps://ceco-cordoba.es/events/acto-los-empresarios-dicen-gracias-cordoba/
URL:https://ceco-cordoba.es/events/acto-los-empresarios-dicen-gracias-cordoba/
END:VEVENT
END:VCALENDAR